BEGIN:VCALENDAR
VERSION:2.0
PRODID:-//Awam Gesar Monastery Slovenija - ECPv6.15.20//NONSGML v1.0//EN
CALSCALE:GREGORIAN
METHOD:PUBLISH
X-WR-CALNAME:Awam Gesar Monastery Slovenija
X-ORIGINAL-URL:https://gesar.si/sl_SI
X-WR-CALDESC:Dogodki za Awam Gesar Monastery Slovenija
REFRESH-INTERVAL;VALUE=DURATION:PT1H
X-Robots-Tag:noindex
X-PUBLISHED-TTL:PT1H
BEGIN:VTIMEZONE
TZID:Europe/Ljubljana
BEGIN:DAYLIGHT
TZOFFSETFROM:+0100
TZOFFSETTO:+0200
TZNAME:CEST
DTSTART:20240331T010000
END:DAYLIGHT
BEGIN:STANDARD
TZOFFSETFROM:+0200
TZOFFSETTO:+0100
TZNAME:CET
DTSTART:20241027T010000
END:STANDARD
BEGIN:DAYLIGHT
TZOFFSETFROM:+0100
TZOFFSETTO:+0200
TZNAME:CEST
DTSTART:20250330T010000
END:DAYLIGHT
BEGIN:STANDARD
TZOFFSETFROM:+0200
TZOFFSETTO:+0100
TZNAME:CET
DTSTART:20251026T010000
END:STANDARD
BEGIN:DAYLIGHT
TZOFFSETFROM:+0100
TZOFFSETTO:+0200
TZNAME:CEST
DTSTART:20260329T010000
END:DAYLIGHT
BEGIN:STANDARD
TZOFFSETFROM:+0200
TZOFFSETTO:+0100
TZNAME:CET
DTSTART:20261025T010000
END:STANDARD
END:VTIMEZONE
BEGIN:VEVENT
DTSTART;TZID=Europe/Ljubljana:20251109T110000
DTEND;TZID=Europe/Ljubljana:20251109T140000
DTSTAMP:20260421T162519
CREATED:20251026T020051Z
LAST-MODIFIED:20251026T020059Z
UID:2410-1762686000-1762696800@gesar.si
SUMMARY:Ling Gesar Empowerment and Teachings 2025
DESCRIPTION:VISIT OF HIS HOLINESS KHENCHEN LAMA RINPOCHE TO SLOVENIA\, NOVEMBER 2025 \nDear students and friends of Awam lineage\, \nWe are absolutely delighted to announce a most auspicious visit of His Holiness Khenchen Lama Rinpoche to Slovenia in November 2025. Rinpoche will once again very compassionately bestow most profound teachings of Vajrayana and consecrate new Awam forrest retreat land. \nII. TEACHINGS PROGRAMME \nSUNDAY\, November 9th\, 2025 \nTime: 11:00 – 14:00 \n– Ling Gesar Empowerment \n– 45 Dharmapalas Empowerment \n– Teaching on Mipham Rinpoche’s Sollo Chenmo\, The Swift Accomplishment of Enlightened Activity through Invocation and Offering \nhttps://www.lotsawahouse.org/tibetan-masters/mipham/gesar-sollo-chenmo \nVenue: \nIzobraževalno-zdravilni Center\, \nGaberje\, Glavna ulica 42-46\, 9220 Lendava \nContact: rinchen@gesar.si \nEveryone welcome! \nKind regards and tashi delek! \nVen.Jamgon Tenzin \nAbbot of Awam Gesar Monastery \nwww.gesar.si \n 
URL:https://gesar.si/sl_SI/event/empowerments/
LOCATION:Izobraževalno-zdravilni Center\, Gaberje\, Glavna ulica 42-46\, 9220 Lendava\, Lendava\, Slovenia
CATEGORIES:Slovenia Nov 2025
ATTACH;FMTTYPE=image/png:https://gesar.si/wp-content/uploads/2025/10/3.png
ORGANIZER;CN="Samostan Awam Gesar":MAILTO:office@gesar.si
END:VEVENT
END:VCALENDAR